BEGIN:VCALENDAR
VERSION:2.0
PRODID:-//Tukios.com/
BEGIN:VEVENT
UID:6024146c-3f2b-47f6-b813-1706cf582ea8@www.sacramentofuneralandcremation.com
DTSTAMP:20260425T032858Z
DTSTART:20260503T210000Z
DTEND:20260503T220000Z
SUMMARY:Memorial Service
DESCRIPTION:
URL:https://www.sacramentofuneralandcremation.com/obituaries/thomas-moore
LOCATION:Westminster Presbyterian Church 1300 N Street  Sacramento CA 
	95814
GEO:38.5743694;-121.4908827
END:VEVENT
END:VCALENDAR