BEGIN:VCALENDAR
VERSION:2.0
PRODID:-//Tukios.com/
BEGIN:VEVENT
UID:c8882667-4b26-4f14-b312-ff2f39ee0de9@www.sacramentofuneralandcremation.com
DTSTAMP:20260423T221443Z
DTSTART:20260502T190000Z
DTEND:20260502T210000Z
SUMMARY:Funeral Service
DESCRIPTION:
URL:https://www.sacramentofuneralandcremation.com/obituaries/deneen-ethridge
LOCATION: 6201 Fair Oaks Blvd  Carmichael CA 95608
GEO:38.6138567;-121.3292368
END:VEVENT
END:VCALENDAR